BEGIN:VCALENDAR
VERSION:2.0
PRODID:-//eventon.com NONSGML v1.0//EN
BEGIN:VEVENT
UID:69e4d11241a33
DTSTAMP:20260419T125650
DTSTART:20260227T200000Z
DTEND:20260228T020000Z
LOCATION:Iași\,  România Iasi\,  Romania
SUMMARY:174 Presents : Telemetry Signal - New Horizons
DESCRIPTION: Attention\,  please 🎙️ this is your captain speaking 👽🚀we interrupt your daily brain rot program for a special transmission 💫 New horizons detected. On 27.02.26\,  we are locking coordinates at @acajucafe and launching straight into O.M.A. Fuzion(@fuzionro ) & Alien (@aliendnb )🛸 Expect deep bass frequencies\,  high-energy propulsion and a[..]
END:VEVENT
END:VCALENDAR