BEGIN:VCALENDAR
VERSION:2.0
PRODID:-//eventon.com NONSGML v1.0//EN
BEGIN:VEVENT
UID:69eb98c65385e
DTSTAMP:20260424T162230
DTSTART:20231205T183000Z
DTEND:20231205T183000Z
LOCATION:Winederful Iasi Winederful Iași
SUMMARY:Velvet Winery - Degustare de vinuri - Iași
DESCRIPTION: ???? Velvet Winery\,  un concept de cramă “boutique”\,  este situată în inima regiunii viticole Dealu Mare\,  podgoria Tohani\,  într-o zonă cu o bogată tradiție viticolă\,  recunoscută pentru producerea vinurilor de mare calitate și complexitate. ???? Vinurile sunt realizate cu accent deosebit pe calitate și tipicitate de soi\,  create cu multă[..]
END:VEVENT
END:VCALENDAR