BEGIN:VCALENDAR
VERSION:2.0
PRODID:-//eventon.com NONSGML v1.0//EN
BEGIN:VEVENT
UID:69e4d12d40fd5
DTSTAMP:20260419T125717
DTSTART:20231012T193000Z
DTEND:20231012T210000Z
LOCATION:Ateneul Național din Iași Ateneul Național din Iași
SUMMARY:Cristian Mungiu în dialog cu Florin Lăzărescu și Cătălin Sava despre „Tania Ionașcu\,  bunica mea“
DESCRIPTION: Eveniment Cristian Mungiu: lansarea volumului „Tania Ionașcu\,  bunica mea: O biografie basarabeană“ la Ateneul Național din Iași Vă invităm joi\,  12 octombrie\,  de la ora 19.30\,  la Ateneul Național din Iași\,  Sala Mare de Spectacole "Radu Beligan" (Strada Ion Creangă 14)\,  la întâlnirea cu Cristian Mungiu\,  Florin Lăzărescu și Cătălin[..]
END:VEVENT
END:VCALENDAR