BEGIN:VCALENDAR
VERSION:2.0
PRODID:-//eventon.com NONSGML v1.0//EN
BEGIN:VEVENT
UID:69ed718198c7f
DTSTAMP:20260426T015929
DTSTART:20221028T230000Z
DTEND:20221029T060000Z
LOCATION:Cafeneaua Piata Unirii Cafeneaua Piata Unirii
SUMMARY:Urban- Latino Halloween Party ~ TERRIFIER / at CPU
DESCRIPTION: ================================ 🎃 Terrifier / Halloween / Hip Hop / latino Urban Party @Cafeneaua Piata Unirii 🎃👻 RSPV: (0743) 663 903 📞 (Table booking | Birthday) ========================== FRI 28 October 📍 / CPU ========================== 🎃 JOKER – URBAN HALLOWEEN PARTY ==>> For the first time In Iasi brought to you by[..]
END:VEVENT
END:VCALENDAR