BEGIN:VCALENDAR
VERSION:2.0
PRODID:-//eventon.com NONSGML v1.0//EN
BEGIN:VEVENT
UID:69ed71ab1fd16
DTSTAMP:20260426T020011
DTSTART:20221029T220000Z
DTEND:20221029T220000Z
LOCATION:Cafeneaua Piata Unirii Cafeneaua Piata Unirii
SUMMARY:Bairamoween la CPU by Wayback
DESCRIPTION: Bairamoween la CPU by Wayback Cafeneaua Piața Unirii / 29 OCT 22:00 RSPV: (0743) 663 903 📞 Pe 29 octombrie ne întoarcem în Cafeneaua Piața Unirii și o transformăm în cea mai înspăimântătoare sufragerie din Iași unde vom da startul unui bairam ca in vremurile bune. Music: 90-2000 hits Entry[..]
END:VEVENT
END:VCALENDAR