BEGIN:VCALENDAR
VERSION:2.0
PRODID:-//eventon.com NONSGML v1.0//EN
BEGIN:VEVENT
UID:69e9cf557124e
DTSTAMP:20260423T075045
DTSTART:20220629T173000Z
DTEND:20220629T173000Z
LOCATION:Ateneul Național din Iași Ateneul Național din Iași
SUMMARY:Vernisaj expoziție  | „Noi suntem noi singurii”: Moștenirile globale ale eugeniei
DESCRIPTION: Ateneul Național din Iași alături de Asociația Fraterna și Comunitatea Evreilor Iași vă invită miercuri\,  29 Iunie 2022\,  de la ora 17:30 la Vernisajul Expoziției „Noi suntem noi singurii”: Moștenirile globale ale eugeniei - curator prof. univ. dr. Marius Turda (Oxford Brookes University). Expoziția bilingvă (în limba română și limba[..]
END:VEVENT
END:VCALENDAR